BEGIN:VCALENDAR
VERSION:2.0
PRODID:-//Southern Highlands HOA - ECPv6.15.20//NONSGML v1.0//EN
CALSCALE:GREGORIAN
METHOD:PUBLISH
X-WR-CALNAME:Southern Highlands HOA
X-ORIGINAL-URL:https://southernhighlandshoa.com
X-WR-CALDESC:Events for Southern Highlands HOA
REFRESH-INTERVAL;VALUE=DURATION:PT1H
X-Robots-Tag:noindex
X-PUBLISHED-TTL:PT1H
BEGIN:VTIMEZONE
TZID:America/Los_Angeles
BEGIN:DAYLIGHT
TZOFFSETFROM:-0800
TZOFFSETTO:-0700
TZNAME:PDT
DTSTART:20210314T100000
END:DAYLIGHT
BEGIN:STANDARD
TZOFFSETFROM:-0700
TZOFFSETTO:-0800
TZNAME:PST
DTSTART:20211107T090000
END:STANDARD
BEGIN:DAYLIGHT
TZOFFSETFROM:-0800
TZOFFSETTO:-0700
TZNAME:PDT
DTSTART:20220313T100000
END:DAYLIGHT
BEGIN:STANDARD
TZOFFSETFROM:-0700
TZOFFSETTO:-0800
TZNAME:PST
DTSTART:20221106T090000
END:STANDARD
BEGIN:DAYLIGHT
TZOFFSETFROM:-0800
TZOFFSETTO:-0700
TZNAME:PDT
DTSTART:20230312T100000
END:DAYLIGHT
BEGIN:STANDARD
TZOFFSETFROM:-0700
TZOFFSETTO:-0800
TZNAME:PST
DTSTART:20231105T090000
END:STANDARD
BEGIN:DAYLIGHT
TZOFFSETFROM:-0800
TZOFFSETTO:-0700
TZNAME:PDT
DTSTART:20240310T100000
END:DAYLIGHT
BEGIN:STANDARD
TZOFFSETFROM:-0700
TZOFFSETTO:-0800
TZNAME:PST
DTSTART:20241103T090000
END:STANDARD
END:VTIMEZONE
BEGIN:VEVENT
DTSTART;TZID=America/Los_Angeles:20231205T080000
DTEND;TZID=America/Los_Angeles:20231205T100000
DTSTAMP:20260419T073824
CREATED:20230517T144129Z
LAST-MODIFIED:20230517T144129Z
UID:35443-1701763200-1701770400@southernhighlandshoa.com
SUMMARY:SHCA Board Appeal Hearing
DESCRIPTION:If an Owner receives a Hearing Response Letter and disagrees with the decision of the Compliance Committee\, they are given the right to appeal the matter to the Board of Directors by submitting a completed Board Appeal Form. The Board will hear any Owner wishing to schedule an appeal one time. Therefore\, Owners are strongly encouraged to correct any outstanding compliance matters prior to appearing before the Board. It is the position of the Board that compliance is the primary objective and fines can be negotiated when Owners respond quickly and resolve issues.
URL:https://southernhighlandshoa.com/event/shca-board-appeal-hearing-6/
CATEGORIES:Board Appeal
END:VEVENT
BEGIN:VEVENT
DTSTART;TZID=America/Los_Angeles:20231107T080000
DTEND;TZID=America/Los_Angeles:20231107T100000
DTSTAMP:20260419T073824
CREATED:20230516T232438Z
LAST-MODIFIED:20230517T144057Z
UID:35441-1699344000-1699351200@southernhighlandshoa.com
SUMMARY:SHCA Board Appeal Hearing
DESCRIPTION:If an Owner receives a Hearing Response Letter and disagrees with the decision of the Compliance Committee\, they are given the right to appeal the matter to the Board of Directors by submitting a completed Board Appeal Form. The Board will hear any Owner wishing to schedule an appeal one time. Therefore\, Owners are strongly encouraged to correct any outstanding compliance matters prior to appearing before the Board. It is the position of the Board that compliance is the primary objective and fines can be negotiated when Owners respond quickly and resolve issues.
URL:https://southernhighlandshoa.com/event/shca-board-appeal-hearing-5/
CATEGORIES:Board Appeal
END:VEVENT
BEGIN:VEVENT
DTSTART;TZID=America/Los_Angeles:20231003T080000
DTEND;TZID=America/Los_Angeles:20231003T110000
DTSTAMP:20260419T073824
CREATED:20230516T232401Z
LAST-MODIFIED:20230516T232401Z
UID:35439-1696320000-1696330800@southernhighlandshoa.com
SUMMARY:SHCA Board Appeal Hearing
DESCRIPTION:If an Owner receives a Hearing Response Letter and disagrees with the decision of the Compliance Committee\, they are given the right to appeal the matter to the Board of Directors by submitting a completed Board Appeal Form. The Board will hear any Owner wishing to schedule an appeal one time. Therefore\, Owners are strongly encouraged to correct any outstanding compliance matters prior to appearing before the Board. It is the position of the Board that compliance is the primary objective and fines can be negotiated when Owners respond quickly and resolve issues.
URL:https://southernhighlandshoa.com/event/shca-board-appeal-hearing-4/
CATEGORIES:Board Appeal
END:VEVENT
BEGIN:VEVENT
DTSTART;TZID=America/Los_Angeles:20230801T080000
DTEND;TZID=America/Los_Angeles:20230801T100000
DTSTAMP:20260419T073824
CREATED:20230516T232201Z
LAST-MODIFIED:20230516T232201Z
UID:35437-1690876800-1690884000@southernhighlandshoa.com
SUMMARY:SHCA Board Appeal Hearing
DESCRIPTION:If an Owner receives a Hearing Response Letter and disagrees with the decision of the Compliance Committee\, they are given the right to appeal the matter to the Board of Directors by submitting a completed Board Appeal Form. The Board will hear any Owner wishing to schedule an appeal one time. Therefore\, Owners are strongly encouraged to correct any outstanding compliance matters prior to appearing before the Board. It is the position of the Board that compliance is the primary objective and fines can be negotiated when Owners respond quickly and resolve issues.
URL:https://southernhighlandshoa.com/event/shca-board-appeal-hearing-3/
CATEGORIES:Board Appeal
END:VEVENT
BEGIN:VEVENT
DTSTART;TZID=America/Los_Angeles:20230711T080000
DTEND;TZID=America/Los_Angeles:20230711T100000
DTSTAMP:20260419T073824
CREATED:20230516T232102Z
LAST-MODIFIED:20230516T232102Z
UID:35435-1689062400-1689069600@southernhighlandshoa.com
SUMMARY:SHCA Board Appeal Hearing
DESCRIPTION:If an Owner receives a Hearing Response Letter and disagrees with the decision of the Compliance Committee\, they are given the right to appeal the matter to the Board of Directors by submitting a completed Board Appeal Form. The Board will hear any Owner wishing to schedule an appeal one time. Therefore\, Owners are strongly encouraged to correct any outstanding compliance matters prior to appearing before the Board. It is the position of the Board that compliance is the primary objective and fines can be negotiated when Owners respond quickly and resolve issues.
URL:https://southernhighlandshoa.com/event/shca-board-appeal-hearing-2/
CATEGORIES:Board Appeal
END:VEVENT
BEGIN:VEVENT
DTSTART;TZID=America/Los_Angeles:20230606T080000
DTEND;TZID=America/Los_Angeles:20230606T100000
DTSTAMP:20260419T073824
CREATED:20230516T232010Z
LAST-MODIFIED:20230516T232010Z
UID:35433-1686038400-1686045600@southernhighlandshoa.com
SUMMARY:SHCA Board Appeal Hearing
DESCRIPTION:If an Owner receives a Hearing Response Letter and disagrees with the decision of the Compliance Committee\, they are given the right to appeal the matter to the Board of Directors by submitting a completed Board Appeal Form. The Board will hear any Owner wishing to schedule an appeal one time. Therefore\, Owners are strongly encouraged to correct any outstanding compliance matters prior to appearing before the Board. It is the position of the Board that compliance is the primary objective and fines can be negotiated when Owners respond quickly and resolve issues.
URL:https://southernhighlandshoa.com/event/shca-board-appeal-hearing/
CATEGORIES:Board Appeal
END:VEVENT
BEGIN:VEVENT
DTSTART;TZID=America/Los_Angeles:20221208T083000
DTEND;TZID=America/Los_Angeles:20221208T103000
DTSTAMP:20260419T073824
CREATED:20220112T231018Z
LAST-MODIFIED:20220112T231018Z
UID:10581-1670488200-1670495400@southernhighlandshoa.com
SUMMARY:SHCA Board Appeal Hearing
DESCRIPTION:If an Owner receives a Hearing Response Letter and disagrees with the decision of the Compliance Committee\, they are given the right to appeal the matter to the Board of Directors by submitting a completed Board Appeal Form. The Board will hear any Owner wishing to schedule an appeal one time. Therefore\, Owners are strongly encouraged to correct any outstanding compliance matters prior to appearing before the Board. It is the position of the Board that compliance is the primary objective and fines can be negotiated when Owners respond quickly and resolve issues.
URL:https://southernhighlandshoa.com/event/boardappeal1208/
CATEGORIES:Board Appeal
END:VEVENT
BEGIN:VEVENT
DTSTART;TZID=America/Los_Angeles:20221110T083000
DTEND;TZID=America/Los_Angeles:20221110T103000
DTSTAMP:20260419T073824
CREATED:20220112T230903Z
LAST-MODIFIED:20220112T230903Z
UID:10579-1668069000-1668076200@southernhighlandshoa.com
SUMMARY:SHCA Board Appeal Hearing
DESCRIPTION:If an Owner receives a Hearing Response Letter and disagrees with the decision of the Compliance Committee\, they are given the right to appeal the matter to the Board of Directors by submitting a completed Board Appeal Form. The Board will hear any Owner wishing to schedule an appeal one time. Therefore\, Owners are strongly encouraged to correct any outstanding compliance matters prior to appearing before the Board. It is the position of the Board that compliance is the primary objective and fines can be negotiated when Owners respond quickly and resolve issues.
URL:https://southernhighlandshoa.com/event/boardappeal1110/
CATEGORIES:Board Appeal
END:VEVENT
BEGIN:VEVENT
DTSTART;TZID=America/Los_Angeles:20221013T083000
DTEND;TZID=America/Los_Angeles:20221013T103000
DTSTAMP:20260419T073824
CREATED:20220112T230801Z
LAST-MODIFIED:20220112T230801Z
UID:10577-1665649800-1665657000@southernhighlandshoa.com
SUMMARY:SHCA Board Appeal Hearing
DESCRIPTION:If an Owner receives a Hearing Response Letter and disagrees with the decision of the Compliance Committee\, they are given the right to appeal the matter to the Board of Directors by submitting a completed Board Appeal Form. The Board will hear any Owner wishing to schedule an appeal one time. Therefore\, Owners are strongly encouraged to correct any outstanding compliance matters prior to appearing before the Board. It is the position of the Board that compliance is the primary objective and fines can be negotiated when Owners respond quickly and resolve issues.
URL:https://southernhighlandshoa.com/event/boardappeal1013/
CATEGORIES:Board Appeal
END:VEVENT
BEGIN:VEVENT
DTSTART;TZID=America/Los_Angeles:20220908T083000
DTEND;TZID=America/Los_Angeles:20220908T103000
DTSTAMP:20260419T073824
CREATED:20220112T230721Z
LAST-MODIFIED:20220112T230721Z
UID:10575-1662625800-1662633000@southernhighlandshoa.com
SUMMARY:SHCA Board Appeal Hearing
DESCRIPTION:If an Owner receives a Hearing Response Letter and disagrees with the decision of the Compliance Committee\, they are given the right to appeal the matter to the Board of Directors by submitting a completed Board Appeal Form. The Board will hear any Owner wishing to schedule an appeal one time. Therefore\, Owners are strongly encouraged to correct any outstanding compliance matters prior to appearing before the Board. It is the position of the Board that compliance is the primary objective and fines can be negotiated when Owners respond quickly and resolve issues.
URL:https://southernhighlandshoa.com/event/boardappeal0908/
CATEGORIES:Board Appeal
END:VEVENT
BEGIN:VEVENT
DTSTART;TZID=America/Los_Angeles:20220811T083000
DTEND;TZID=America/Los_Angeles:20220811T103000
DTSTAMP:20260419T073824
CREATED:20220112T230601Z
LAST-MODIFIED:20220112T230638Z
UID:10573-1660206600-1660213800@southernhighlandshoa.com
SUMMARY:SHCA Board Appeal Hearing
DESCRIPTION:If an Owner receives a Hearing Response Letter and disagrees with the decision of the Compliance Committee\, they are given the right to appeal the matter to the Board of Directors by submitting a completed Board Appeal Form. The Board will hear any Owner wishing to schedule an appeal one time. Therefore\, Owners are strongly encouraged to correct any outstanding compliance matters prior to appearing before the Board. It is the position of the Board that compliance is the primary objective and fines can be negotiated when Owners respond quickly and resolve issues.
URL:https://southernhighlandshoa.com/event/boardappeal0811/
CATEGORIES:Board Appeal
END:VEVENT
BEGIN:VEVENT
DTSTART;TZID=America/Los_Angeles:20220714T083000
DTEND;TZID=America/Los_Angeles:20220714T103000
DTSTAMP:20260419T073824
CREATED:20220112T230145Z
LAST-MODIFIED:20220112T230525Z
UID:10571-1657787400-1657794600@southernhighlandshoa.com
SUMMARY:SHCA Board Appeal Hearing
DESCRIPTION:If an Owner receives a Hearing Response Letter and disagrees with the decision of the Compliance Committee\, they are given the right to appeal the matter to the Board of Directors by submitting a completed Board Appeal Form. The Board will hear any Owner wishing to schedule an appeal one time. Therefore\, Owners are strongly encouraged to correct any outstanding compliance matters prior to appearing before the Board. It is the position of the Board that compliance is the primary objective and fines can be negotiated when Owners respond quickly and resolve issues.
URL:https://southernhighlandshoa.com/event/boardappeal0714/
CATEGORIES:Board Appeal
END:VEVENT
BEGIN:VEVENT
DTSTART;TZID=America/Los_Angeles:20220609T083000
DTEND;TZID=America/Los_Angeles:20220609T103000
DTSTAMP:20260419T073824
CREATED:20220112T230023Z
LAST-MODIFIED:20220112T230023Z
UID:10569-1654763400-1654770600@southernhighlandshoa.com
SUMMARY:SHCA Board Appeal Hearing
DESCRIPTION:If an Owner receives a Hearing Response Letter and disagrees with the decision of the Compliance Committee\, they are given the right to appeal the matter to the Board of Directors by submitting a completed Board Appeal Form. The Board will hear any Owner wishing to schedule an appeal one time. Therefore\, Owners are strongly encouraged to correct any outstanding compliance matters prior to appearing before the Board. It is the position of the Board that compliance is the primary objective and fines can be negotiated when Owners respond quickly and resolve issues.
URL:https://southernhighlandshoa.com/event/boardappeal0609/
CATEGORIES:Board Appeal
END:VEVENT
BEGIN:VEVENT
DTSTART;TZID=America/Los_Angeles:20220512T083000
DTEND;TZID=America/Los_Angeles:20220512T103000
DTSTAMP:20260419T073824
CREATED:20220112T225838Z
LAST-MODIFIED:20220112T225838Z
UID:10567-1652344200-1652351400@southernhighlandshoa.com
SUMMARY:SHCA Board Appeal Hearing
DESCRIPTION:If an Owner receives a Hearing Response Letter and disagrees with the decision of the Compliance Committee\, they are given the right to appeal the matter to the Board of Directors by submitting a completed Board Appeal Form. The Board will hear any Owner wishing to schedule an appeal one time. Therefore\, Owners are strongly encouraged to correct any outstanding compliance matters prior to appearing before the Board. It is the position of the Board that compliance is the primary objective and fines can be negotiated when Owners respond quickly and resolve issues.
URL:https://southernhighlandshoa.com/event/boardappeal0512/
CATEGORIES:Board Appeal
END:VEVENT
BEGIN:VEVENT
DTSTART;TZID=America/Los_Angeles:20220421T083000
DTEND;TZID=America/Los_Angeles:20220421T103000
DTSTAMP:20260419T073824
CREATED:20220112T225723Z
LAST-MODIFIED:20220112T225723Z
UID:10565-1650529800-1650537000@southernhighlandshoa.com
SUMMARY:SHCA Board Appeal Hearing
DESCRIPTION:If an Owner receives a Hearing Response Letter and disagrees with the decision of the Compliance Committee\, they are given the right to appeal the matter to the Board of Directors by submitting a completed Board Appeal Form. The Board will hear any Owner wishing to schedule an appeal one time. Therefore\, Owners are strongly encouraged to correct any outstanding compliance matters prior to appearing before the Board. It is the position of the Board that compliance is the primary objective and fines can be negotiated when Owners respond quickly and resolve issues.
URL:https://southernhighlandshoa.com/event/boardappeal0421/
CATEGORIES:Board Appeal
END:VEVENT
BEGIN:VEVENT
DTSTART;TZID=America/Los_Angeles:20220310T083000
DTEND;TZID=America/Los_Angeles:20220310T103000
DTSTAMP:20260419T073824
CREATED:20220112T225538Z
LAST-MODIFIED:20220112T225538Z
UID:10562-1646901000-1646908200@southernhighlandshoa.com
SUMMARY:SHCA Board Appeal Hearing
DESCRIPTION:If an Owner receives a Hearing Response Letter and disagrees with the decision of the Compliance Committee\, they are given the right to appeal the matter to the Board of Directors by submitting a completed Board Appeal Form. The Board will hear any Owner wishing to schedule an appeal one time. Therefore\, Owners are strongly encouraged to correct any outstanding compliance matters prior to appearing before the Board. It is the position of the Board that compliance is the primary objective and fines can be negotiated when Owners respond quickly and resolve issues.
URL:https://southernhighlandshoa.com/event/boardappeal0310/
CATEGORIES:Board Appeal
END:VEVENT
BEGIN:VEVENT
DTSTART;TZID=America/Los_Angeles:20220210T083000
DTEND;TZID=America/Los_Angeles:20220210T103000
DTSTAMP:20260419T073824
CREATED:20220112T225442Z
LAST-MODIFIED:20220112T225442Z
UID:10560-1644481800-1644489000@southernhighlandshoa.com
SUMMARY:SHCA Board Appeal Hearing
DESCRIPTION:If an Owner receives a Hearing Response Letter and disagrees with the decision of the Compliance Committee\, they are given the right to appeal the matter to the Board of Directors by submitting a completed Board Appeal Form. The Board will hear any Owner wishing to schedule an appeal one time. Therefore\, Owners are strongly encouraged to correct any outstanding compliance matters prior to appearing before the Board. It is the position of the Board that compliance is the primary objective and fines can be negotiated when Owners respond quickly and resolve issues.
URL:https://southernhighlandshoa.com/event/boardappeal0210/
CATEGORIES:Board Appeal
END:VEVENT
BEGIN:VEVENT
DTSTART;TZID=America/Los_Angeles:20220113T083000
DTEND;TZID=America/Los_Angeles:20220113T103000
DTSTAMP:20260419T073824
CREATED:20220112T225154Z
LAST-MODIFIED:20220112T225154Z
UID:10558-1642062600-1642069800@southernhighlandshoa.com
SUMMARY:SHCA Board Appeal Hearing
DESCRIPTION:If an Owner receives a Hearing Response Letter and disagrees with the decision of the Compliance Committee\, they are given the right to appeal the matter to the Board of Directors by submitting a completed Board Appeal Form. The Board will hear any Owner wishing to schedule an appeal one time. Therefore\, Owners are strongly encouraged to correct any outstanding compliance matters prior to appearing before the Board. It is the position of the Board that compliance is the primary objective and fines can be negotiated when Owners respond quickly and resolve issues.
URL:https://southernhighlandshoa.com/event/boardappeal0113/
CATEGORIES:Board Appeal
END:VEVENT
END:VCALENDAR